BEGIN:VCALENDAR
VERSION:2.0
PRODID:-//3nity.com//3nity CMS//EN
BEGIN:VEVENT
SUMMARY:Worship Service @ 9:30am
UID:2025-07-17-1168479@www.kiptoncommunitychurch.org
SEQUENCE:0
STATUS:CONFIRMED
DTSTART:20250914T093000
DTEND:20250914T103000
DTSTAMP:20161222T120000
DESCRIPTION:You can also watch the service live via Facebook Live
URL:http://www.kiptoncommunitychurch.org
END:VEVENT
END:VCALENDAR
